BEGIN:VCALENDAR
VERSION:2.0
PRODID:-//wp-events-plugin.com//7.2.3.1//EN
TZID:America/New_York
X-WR-TIMEZONE:America/New_York
BEGIN:VEVENT
UID:8@sympmarc.com
DTSTART;TZID=America/New_York:20120429T000000
DTEND;TZID=America/New_York:20120502T000000
DTSTAMP:20121022T152217Z
URL:https://sympmarc.com/speaking/sharepoint-conference-org/
SUMMARY:SharePoint Conference .ORG - Hyatt Regency Reston - 29 Apr 12 00:00
DESCRIPTION:
CATEGORIES:SharePoint UI Essentials,Working Magic with jQuery and
 SharePoint Web Services
LOCATION:Hyatt Regency Reston\, 1800 Presidents Street\, Reston\, VA\, 2019
 0\, United States
GEO:38.958049;-77.35556199999996
X-APPLE-STRUCTURED-LOCATION;VALUE=URI;X-ADDRESS=1800 Presidents Street\, Re
 ston\, VA\, 20190\, United States;X-APPLE-RADIUS=100;X-TITLE=Hyatt Regency
  Reston:geo:38.958049,-77.35556199999996
END:VEVENT
BEGIN:VTIMEZONE
TZID:America/New_York
X-LIC-LOCATION:America/New_York
BEGIN:DAYLIGHT
DTSTART:20120311T030000
TZOFFSETFROM:-0500
TZOFFSETTO:-0400
TZNAME:EDT
END:DAYLIGHT
END:VTIMEZONE
END:VCALENDAR