BEGIN:VCALENDAR
VERSION:2.0
PRODID:-//wp-events-plugin.com//7.2.3.1//EN
TZID:America/New_York
X-WR-TIMEZONE:America/New_York
BEGIN:VEVENT
UID:37@sympmarc.com
DTSTART;TZID=America/New_York;VALUE=DATE:20140518
DTEND;TZID=America/New_York;VALUE=DATE:20140520
DTSTAMP:20140521T035135Z
URL:https://sympmarc.com/speaking/sharepoint-conference-org-reston-2014/
SUMMARY:SharePoint Conference .ORG Reston 2014 - Hyatt Regency Reston - 18 
 May 14 00:00
DESCRIPTION:
CATEGORIES:Creating a Great User Experience in SharePoint,SharePoint 2013
 Branding &amp; Responsive Design Workshop
LOCATION:Hyatt Regency Reston\, 1800 Presidents Street\, Reston\, VA\, 2019
 0\, United States
GEO:38.958049;-77.35556199999996
X-APPLE-STRUCTURED-LOCATION;VALUE=URI;X-ADDRESS=1800 Presidents Street\, Re
 ston\, VA\, 20190\, United States;X-APPLE-RADIUS=100;X-TITLE=Hyatt Regency
  Reston:geo:38.958049,-77.35556199999996
END:VEVENT
BEGIN:VTIMEZONE
TZID:America/New_York
X-LIC-LOCATION:America/New_York
BEGIN:DAYLIGHT
DTSTART:20140309T030000
TZOFFSETFROM:-0500
TZOFFSETTO:-0400
TZNAME:EDT
END:DAYLIGHT
END:VTIMEZONE
END:VCALENDAR