BEGIN:VCALENDAR
VERSION:2.0
PRODID:-//wp-events-plugin.com//7.2.3.1//EN
TZID:America/New_York
X-WR-TIMEZONE:America/New_York
BEGIN:VEVENT
UID:38@sympmarc.com
DTSTART;TZID=America/New_York;VALUE=DATE:20141019
DTEND;TZID=America/New_York;VALUE=DATE:20141021
DTSTAMP:20140521T035622Z
URL:https://sympmarc.com/speaking/sharepoint-conference-org-dallas-2014/
SUMMARY:SharePoint Conference .ORG Dallas 2014 - Westin Galleria Dallas - 1
 9 Oct 14 00:00
DESCRIPTION:
CATEGORIES:Creating a Great User Experience in SharePoint,SharePoint 2013
 Branding &amp; Responsive Design Workshop
LOCATION:Westin Galleria Dallas\, 13340 Dallas Parkway\, Dallas\, TX\, 7524
 0\, United States
GEO:32.9300017;-96.82042509999997
X-APPLE-STRUCTURED-LOCATION;VALUE=URI;X-ADDRESS=13340 Dallas Parkway\, Dall
 as\, TX\, 75240\, United States;X-APPLE-RADIUS=100;X-TITLE=Westin Galleria
  Dallas:geo:32.9300017,-96.82042509999997
END:VEVENT
BEGIN:VTIMEZONE
TZID:America/New_York
X-LIC-LOCATION:America/New_York
BEGIN:DAYLIGHT
DTSTART:20140309T030000
TZOFFSETFROM:-0500
TZOFFSETTO:-0400
TZNAME:EDT
END:DAYLIGHT
END:VTIMEZONE
END:VCALENDAR