BEGIN:VCALENDAR
VERSION:2.0
PRODID:-//wp-events-plugin.com//7.2.3.1//EN
TZID:America/New_York
X-WR-TIMEZONE:America/New_York
BEGIN:VEVENT
UID:19@sympmarc.com
DTSTART;TZID=America/New_York;VALUE=DATE:20130613
DTEND;TZID=America/New_York;VALUE=DATE:20130616
DTSTAMP:20130201T051153Z
URL:https://sympmarc.com/speaking/sharepoint-conference-org-2013/
SUMMARY:SharePoint Conference .ORG 2013 - Gaylord National Hotel - 13 Jun 1
 3 00:00
DESCRIPTION:
CATEGORIES:Designing for SharePoint 2013,Get your jQuery On,SharePoint
 Designer Workshop
LOCATION:Gaylord National Hotel\, 201 Waterfront Street\, National Harbor\,
  MD\, 20745\, United States
GEO:38.7817185;-77.01656969999999
X-APPLE-STRUCTURED-LOCATION;VALUE=URI;X-ADDRESS=201 Waterfront Street\, Nat
 ional Harbor\, MD\, 20745\, United States;X-APPLE-RADIUS=100;X-TITLE=Gaylo
 rd National Hotel:geo:38.7817185,-77.01656969999999
END:VEVENT
BEGIN:VTIMEZONE
TZID:America/New_York
X-LIC-LOCATION:America/New_York
BEGIN:DAYLIGHT
DTSTART:20130310T030000
TZOFFSETFROM:-0500
TZOFFSETTO:-0400
TZNAME:EDT
END:DAYLIGHT
END:VTIMEZONE
END:VCALENDAR