BEGIN:VCALENDAR
VERSION:2.0
PRODID:-//wp-events-plugin.com//7.2.3.1//EN
TZID:America/New_York
X-WR-TIMEZONE:America/New_York
BEGIN:VEVENT
UID:90@sympmarc.com
DTSTART;TZID=America/New_York;VALUE=DATE:20180521
DTEND;TZID=America/New_York;VALUE=DATE:20180524
DTSTAMP:20180205T152144Z
URL:https://sympmarc.com/speaking/sharepoint-conference-north-america-spcn
 a/
SUMMARY:SharePoint Conference North America (SPCNA) - MGM Grand\, Las Vegas
  - 21 May 18 00:00
DESCRIPTION:
CATEGORIES:The Next Great Migration: "Classic" to "Modern",Top Form: Using
 PowerApps to Replace List Forms
LOCATION:MGM Grand\, Las Vegas\, 3799 S. Las Vegas Blvd.\, Las Vegas\, NV\,
  United States
GEO:36.1022507;-115.16996790000002
X-APPLE-STRUCTURED-LOCATION;VALUE=URI;X-ADDRESS=3799 S. Las Vegas Blvd.\, L
 as Vegas\, NV\, United States;X-APPLE-RADIUS=100;X-TITLE=MGM Grand\, Las V
 egas:geo:36.1022507,-115.16996790000002
END:VEVENT
BEGIN:VTIMEZONE
TZID:America/New_York
X-LIC-LOCATION:America/New_York
BEGIN:DAYLIGHT
DTSTART:20180311T030000
TZOFFSETFROM:-0500
TZOFFSETTO:-0400
TZNAME:EDT
END:DAYLIGHT
END:VTIMEZONE
END:VCALENDAR