BEGIN:VCALENDAR
VERSION:2.0
PRODID:-//wp-events-plugin.com//7.2.3.1//EN
TZID:America/New_York
X-WR-TIMEZONE:America/New_York
BEGIN:VEVENT
UID:5@sympmarc.com
DTSTART;TZID=America/New_York;VALUE=DATE:20121022
DTEND;TZID=America/New_York;VALUE=DATE:20121024
DTSTAMP:20121022T151223Z
URL:https://sympmarc.com/speaking/sharepoint-and-exchange-forum-sef-2012/
SUMMARY:SharePoint and Exchange Forum (SEF) 2012 - Münchenbryggeriet - 22 
 Oct 12 00:00
DESCRIPTION:TBD
CATEGORIES:A jQuery Primer for SharePoint: Attributes, Traversing,
 Manipulation, Events, and Effects,A jQuery Primer for SharePoint:
 Overview, jQuery and CSS, and Selectors
LOCATION:Münchenbryggeriet\, Torkel Knutssonsgatan 2\, Stockholm\, Sweden
GEO:59.32074679999999;18.05620269999997
X-APPLE-STRUCTURED-LOCATION;VALUE=URI;X-ADDRESS=Torkel Knutssonsgatan 2\, S
 tockholm\, Sweden;X-APPLE-RADIUS=100;X-TITLE=Münchenbryggeriet:geo:59.320
 74679999999,18.05620269999997
END:VEVENT
BEGIN:VTIMEZONE
TZID:America/New_York
X-LIC-LOCATION:America/New_York
BEGIN:DAYLIGHT
DTSTART:20120311T030000
TZOFFSETFROM:-0500
TZOFFSETTO:-0400
TZNAME:EDT
END:DAYLIGHT
END:VTIMEZONE
END:VCALENDAR