BEGIN:VCALENDAR
VERSION:2.0
PRODID:-//wp-events-plugin.com//7.2.3.1//EN
TZID:America/New_York
X-WR-TIMEZONE:America/New_York
BEGIN:VEVENT
UID:41@sympmarc.com
DTSTART;TZID=America/New_York:20140923T120000
DTEND;TZID=America/New_York:20140925T160000
DTSTAMP:20140521T040635Z
URL:https://sympmarc.com/speaking/sharepoint-2013-styling-branding-respons
 ive-design/
SUMMARY:SharePoint 2013 Styling\, Branding & Responsive Design -  - 23 Sep 
 14 12:00
DESCRIPTION:
CATEGORIES:SharePoint 2013 Styling, Branding &amp; Responsive Design
END:VEVENT
BEGIN:VTIMEZONE
TZID:America/New_York
X-LIC-LOCATION:America/New_York
BEGIN:DAYLIGHT
DTSTART:20140309T030000
TZOFFSETFROM:-0500
TZOFFSETTO:-0400
TZNAME:EDT
END:DAYLIGHT
END:VTIMEZONE
END:VCALENDAR