BEGIN:VCALENDAR
VERSION:2.0
PRODID:-//wp-events-plugin.com//7.2.3.1//EN
TZID:America/New_York
X-WR-TIMEZONE:America/New_York
BEGIN:VEVENT
UID:89@sympmarc.com
DTSTART;TZID=America/New_York;VALUE=DATE:20170906
DTEND;TZID=America/New_York;VALUE=DATE:20170910
DTSTAMP:20170621T151902Z
URL:https://sympmarc.com/speaking/sef-2017/
SUMMARY:SEF 2017 - Tallink Silja Line - Baltic Queen - 6 Sep 17 00:00
DESCRIPTION:
LOCATION:Tallink Silja Line - Baltic Queen\, Between Stockholm (Sweden) and
  Tallinn (Estonia)\, Stockholm\, United States
X-APPLE-STRUCTURED-LOCATION;VALUE=URI;X-ADDRESS=Between Stockholm (Sweden) 
 and Tallinn (Estonia)\, Stockholm\, United States;X-APPLE-RADIUS=100;X-TIT
 LE=Tallink Silja Line - Baltic Queen:geo:0,0
END:VEVENT
BEGIN:VTIMEZONE
TZID:America/New_York
X-LIC-LOCATION:America/New_York
BEGIN:DAYLIGHT
DTSTART:20170312T030000
TZOFFSETFROM:-0500
TZOFFSETTO:-0400
TZNAME:EDT
END:DAYLIGHT
END:VTIMEZONE
END:VCALENDAR