BEGIN:VCALENDAR
VERSION:2.0
PRODID:-//wp-events-plugin.com//7.2.3.1//EN
TZID:America/New_York
X-WR-TIMEZONE:America/New_York
BEGIN:VEVENT
UID:94@sympmarc.com
DTSTART;TZID=America/New_York:20180904T183000
DTEND;TZID=America/New_York:20180904T203000
DTSTAMP:20180904T143751Z
URL:https://sympmarc.com/speaking/rispug-meeting-using-powerapps-to-replac
 e-list-forms/
SUMMARY:RISPUG Meeting: Using PowerApps to Replace List Forms - AIPSO - 4 S
 ep 18 18:30
DESCRIPTION:
CATEGORIES:Top Form: Using PowerApps to Replace List Forms
LOCATION:AIPSO\, 302 Central Avenue\, Johnston\, RI\, 02919\, United States
GEO:41.8097289;-71.48609920000001
X-APPLE-STRUCTURED-LOCATION;VALUE=URI;X-ADDRESS=302 Central Avenue\, Johnst
 on\, RI\, 02919\, United States;X-APPLE-RADIUS=100;X-TITLE=AIPSO:geo:41.80
 97289,-71.48609920000001
END:VEVENT
BEGIN:VTIMEZONE
TZID:America/New_York
X-LIC-LOCATION:America/New_York
BEGIN:DAYLIGHT
DTSTART:20180311T030000
TZOFFSETFROM:-0500
TZOFFSETTO:-0400
TZNAME:EDT
END:DAYLIGHT
END:VTIMEZONE
END:VCALENDAR