BEGIN:VCALENDAR
VERSION:2.0
PRODID:-//wp-events-plugin.com//7.2.3.1//EN
TZID:America/New_York
X-WR-TIMEZONE:America/New_York
BEGIN:VEVENT
UID:61@sympmarc.com
DTSTART;TZID=America/New_York:20150806T190000
DTEND;TZID=America/New_York:20150806T203000
DTSTAMP:20150724T114143Z
URL:https://sympmarc.com/speaking/rhode-island-sharepoint-user-group/
SUMMARY:Rhode Island SharePoint User Group - Atrion - Warwick\, RI - 6 Aug 
 15 19:00
DESCRIPTION:
LOCATION:Atrion - Warwick\, RI\, 125 Metro Centre Blvd\, 2nd Floor\, Warwic
 k\, RI\, United States
GEO:41.7246764;-71.45485539999999
X-APPLE-STRUCTURED-LOCATION;VALUE=URI;X-ADDRESS=125 Metro Centre Blvd\, 2nd
  Floor\, Warwick\, RI\, United States;X-APPLE-RADIUS=100;X-TITLE=Atrion - 
 Warwick\, RI:geo:41.7246764,-71.45485539999999
END:VEVENT
BEGIN:VTIMEZONE
TZID:America/New_York
X-LIC-LOCATION:America/New_York
BEGIN:DAYLIGHT
DTSTART:20150308T030000
TZOFFSETFROM:-0500
TZOFFSETTO:-0400
TZNAME:EDT
END:DAYLIGHT
END:VTIMEZONE
END:VCALENDAR