BEGIN:VCALENDAR
VERSION:2.0
PRODID:-//wp-events-plugin.com//7.2.3.1//EN
TZID:America/New_York
X-WR-TIMEZONE:America/New_York
BEGIN:VEVENT
UID:15@sympmarc.com
DTSTART;TZID=America/New_York:20120905T180000
DTEND;TZID=America/New_York:20120905T200000
DTSTAMP:20120523T025812Z
URL:https://sympmarc.com/speaking/rhode-island-sharepoint-user-group-rispu
 g/
SUMMARY:Rhode Island SharePoint User Group (RISPUG) - Providence College - 
 5 Sep 12 18:00
DESCRIPTION:
CATEGORIES:Flying in the Cloud: New Ways to Develop for SharePoint
LOCATION:Providence College\, 1 Cunningham Square \, Providence\, RI\, 0290
 8\, United States
GEO:41.8441536;-71.43797760000001
X-APPLE-STRUCTURED-LOCATION;VALUE=URI;X-ADDRESS=1 Cunningham Square \, Prov
 idence\, RI\, 02908\, United States;X-APPLE-RADIUS=100;X-TITLE=Providence 
 College:geo:41.8441536,-71.43797760000001
END:VEVENT
BEGIN:VTIMEZONE
TZID:America/New_York
X-LIC-LOCATION:America/New_York
BEGIN:DAYLIGHT
DTSTART:20120311T030000
TZOFFSETFROM:-0500
TZOFFSETTO:-0400
TZNAME:EDT
END:DAYLIGHT
END:VTIMEZONE
END:VCALENDAR