BEGIN:VCALENDAR
VERSION:2.0
PRODID:-//wp-events-plugin.com//7.2.3.1//EN
TZID:America/New_York
X-WR-TIMEZONE:America/New_York
BEGIN:VEVENT
UID:48@sympmarc.com
DTSTART;TZID=America/New_York:20141119T180000
DTEND;TZID=America/New_York:20141119T200000
DTSTAMP:20150219T194355Z
URL:https://sympmarc.com/speaking/rhode-island-sharepoint-user-group-rispu
 g-2/
SUMMARY:Rhode Island SharePoint User Group (RISPUG) - Atrion - Warwick\, RI
  - 19 Nov 14 18:00
DESCRIPTION:
CATEGORIES:Anatomy of a Display Template
LOCATION:Atrion - Warwick\, RI\, 125 Metro Centre Blvd\, 2nd Floor\, Warwic
 k\, RI\, United States
GEO:41.7246764;-71.45485539999999
X-APPLE-STRUCTURED-LOCATION;VALUE=URI;X-ADDRESS=125 Metro Centre Blvd\, 2nd
  Floor\, Warwick\, RI\, United States;X-APPLE-RADIUS=100;X-TITLE=Atrion - 
 Warwick\, RI:geo:41.7246764,-71.45485539999999
END:VEVENT
BEGIN:VTIMEZONE
TZID:America/New_York
X-LIC-LOCATION:America/New_York
BEGIN:STANDARD
DTSTART:20141102T010000
TZOFFSETFROM:-0400
TZOFFSETTO:-0500
TZNAME:EST
END:STANDARD
END:VTIMEZONE
END:VCALENDAR