BEGIN:VCALENDAR
VERSION:2.0
PRODID:-//wp-events-plugin.com//7.2.3.1//EN
TZID:America/New_York
X-WR-TIMEZONE:America/New_York
BEGIN:VEVENT
UID:99@sympmarc.com
DTSTART;TZID=America/New_York:20190326T170000
DTEND;TZID=America/New_York:20190326T190000
DTSTAMP:20190305T174704Z
URL:https://sympmarc.com/speaking/ottawa-sharepoint-user-group/
SUMMARY:Ottawa SharePoint User Group - Microsoft Canada - 26 Mar 19 17:00
DESCRIPTION:
CATEGORIES:The Next Great Migration: "Classic" to "Modern"
LOCATION:Microsoft Canada\, 100 Queen Street / Suite 500\, Ottawa\, Ontario
 \, Canada
X-APPLE-STRUCTURED-LOCATION;VALUE=URI;X-ADDRESS=100 Queen Street / Suite 50
 0\, Ottawa\, Ontario\, Canada;X-APPLE-RADIUS=100;X-TITLE=Microsoft Canada:
 geo:0,0
END:VEVENT
BEGIN:VTIMEZONE
TZID:America/New_York
X-LIC-LOCATION:America/New_York
BEGIN:DAYLIGHT
DTSTART:20190310T030000
TZOFFSETFROM:-0500
TZOFFSETTO:-0400
TZNAME:EDT
END:DAYLIGHT
END:VTIMEZONE
END:VCALENDAR