BEGIN:VCALENDAR
VERSION:2.0
PRODID:-//wp-events-plugin.com//7.2.3.1//EN
TZID:America/New_York
X-WR-TIMEZONE:America/New_York
BEGIN:VEVENT
UID:10@sympmarc.com
DTSTART;TZID=America/New_York:20120225T000000
DTEND;TZID=America/New_York:20120225T000000
DTSTAMP:20120403T154040Z
URL:https://sympmarc.com/speaking/office-365-redmond/
SUMMARY:Office 365 Redmond - Microsoft Conference Center - 25 Feb 12 00:00
DESCRIPTION:
CATEGORIES:Flying in the Cloud: New Ways to Develop for SharePoint
LOCATION:Microsoft Conference Center\, 16070 North East 36th Street / Build
 ing 33\, Redmond\, WA\,  98052\, United States
GEO:47.642285;-122.12610519999998
X-APPLE-STRUCTURED-LOCATION;VALUE=URI;X-ADDRESS=16070 North East 36th Stree
 t / Building 33\, Redmond\, WA\,  98052\, United States;X-APPLE-RADIUS=100
 ;X-TITLE=Microsoft Conference Center:geo:47.642285,-122.12610519999998
END:VEVENT
BEGIN:VTIMEZONE
TZID:America/New_York
X-LIC-LOCATION:America/New_York
BEGIN:STANDARD
DTSTART:20111106T010000
TZOFFSETFROM:-0400
TZOFFSETTO:-0500
TZNAME:EST
END:STANDARD
END:VTIMEZONE
END:VCALENDAR