BEGIN:VCALENDAR
VERSION:2.0
PRODID:-//wp-events-plugin.com//7.2.3.1//EN
TZID:America/New_York
X-WR-TIMEZONE:America/New_York
BEGIN:VEVENT
UID:65@sympmarc.com
DTSTART;TZID=America/New_York:20151110T160000
DTEND;TZID=America/New_York:20151110T170000
DTSTAMP:20151112T164150Z
URL:https://sympmarc.com/speaking/office-365-dev-pulse/
SUMMARY:Office 365 Dev Pulse -  - 10 Nov 15 16:00
DESCRIPTION:
CATEGORIES:Alternative Approaches to Solution Development in Office 365
END:VEVENT
BEGIN:VTIMEZONE
TZID:America/New_York
X-LIC-LOCATION:America/New_York
BEGIN:STANDARD
DTSTART:20151101T010000
TZOFFSETFROM:-0400
TZOFFSETTO:-0500
TZNAME:EST
END:STANDARD
END:VTIMEZONE
END:VCALENDAR