BEGIN:VCALENDAR
VERSION:2.0
PRODID:-//wp-events-plugin.com//7.2.3.1//EN
TZID:America/New_York
X-WR-TIMEZONE:America/New_York
BEGIN:VEVENT
UID:85@sympmarc.com
DTSTART;TZID=America/New_York:20170201T170000
DTEND;TZID=America/New_York:20170201T190000
DTSTAMP:20170110T183024Z
URL:https://sympmarc.com/speaking/norwegian-sharepoint-community-meetup-os
 lo/
SUMMARY:Norwegian SharePoint Community Meetup - Oslo - Sopra Steria - 1 Feb
  17 17:00
DESCRIPTION:
CATEGORIES:Content Types-Love Them or Lose It
LOCATION:Sopra Steria\, Biskop Gunnerus' gate 14A\, Oslo\, Norway
GEO:59.91152939999999;10.754614599999968
X-APPLE-STRUCTURED-LOCATION;VALUE=URI;X-ADDRESS=Biskop Gunnerus' gate 14A\,
  Oslo\, Norway;X-APPLE-RADIUS=100;X-TITLE=Sopra Steria:geo:59.911529399999
 99,10.754614599999968
END:VEVENT
BEGIN:VTIMEZONE
TZID:America/New_York
X-LIC-LOCATION:America/New_York
BEGIN:STANDARD
DTSTART:20161106T010000
TZOFFSETFROM:-0400
TZOFFSETTO:-0500
TZNAME:EST
END:STANDARD
END:VTIMEZONE
END:VCALENDAR