BEGIN:VCALENDAR
VERSION:2.0
PRODID:-//wp-events-plugin.com//7.2.3.1//EN
TZID:America/New_York
X-WR-TIMEZONE:America/New_York
BEGIN:VEVENT
UID:50@sympmarc.com
DTSTART;TZID=America/New_York:20150108T180000
DTEND;TZID=America/New_York:20150108T200000
DTSTAMP:20150219T195301Z
URL:https://sympmarc.com/speaking/new-hampshire-sharepoint-user-group/
SUMMARY:New Hampshire SharePoint User Group - Daniel Webster College - 8 Ja
 n 15 18:00
DESCRIPTION:
CATEGORIES:Create a Simple SharePoint 2013 Employee Directory on Office365
LOCATION:Daniel Webster College\, 20 University Drive\, Nashua\, NH\, 03060
 \, United States
GEO:42.7772791;-71.51404919999999
X-APPLE-STRUCTURED-LOCATION;VALUE=URI;X-ADDRESS=20 University Drive\, Nashu
 a\, NH\, 03060\, United States;X-APPLE-RADIUS=100;X-TITLE=Daniel Webster C
 ollege:geo:42.7772791,-71.51404919999999
END:VEVENT
BEGIN:VTIMEZONE
TZID:America/New_York
X-LIC-LOCATION:America/New_York
BEGIN:STANDARD
DTSTART:20141102T010000
TZOFFSETFROM:-0400
TZOFFSETTO:-0500
TZNAME:EST
END:STANDARD
END:VTIMEZONE
END:VCALENDAR