BEGIN:VCALENDAR
VERSION:2.0
PRODID:-//wp-events-plugin.com//7.2.3.1//EN
TZID:America/New_York
X-WR-TIMEZONE:America/New_York
BEGIN:VEVENT
UID:35@sympmarc.com
DTSTART;TZID=America/New_York:20140416T170000
DTEND;TZID=America/New_York:20140417T180000
DTSTAMP:20140331T040337Z
URL:https://sympmarc.com/speaking/microsoft-cloud-show/
SUMMARY:SP24 - The 24-Hour SharePoint Conference -  - 16 Apr 14 17:00
DESCRIPTION:
CATEGORIES:SharePoint Solutions with SPServices
END:VEVENT
BEGIN:VTIMEZONE
TZID:America/New_York
X-LIC-LOCATION:America/New_York
BEGIN:DAYLIGHT
DTSTART:20140309T030000
TZOFFSETFROM:-0500
TZOFFSETTO:-0400
TZNAME:EDT
END:DAYLIGHT
END:VTIMEZONE
END:VCALENDAR