BEGIN:VCALENDAR
VERSION:2.0
PRODID:-//wp-events-plugin.com//7.2.3.1//EN
TZID:America/New_York
X-WR-TIMEZONE:America/New_York
BEGIN:VEVENT
UID:45@sympmarc.com
DTSTART;TZID=America/New_York;VALUE=DATE:20140924
DTEND;TZID=America/New_York;VALUE=DATE:20140925
DTSTAMP:20141008T145445Z
URL:https://sympmarc.com/speaking/microsoft-cloud-show-episode-048-sptechc
 on-panel-recap-im-a-developer-why-should-i-have-to-learn-a-new-skill-set/
SUMMARY:Microsoft Cloud Show -  - 24 Sep 14 00:00
DESCRIPTION:
CATEGORIES:Episode 048 - SPTechCon Panel Recap - I'm a Developer: Why
 Should I Have to Learn a New Skill Set?
END:VEVENT
BEGIN:VTIMEZONE
TZID:America/New_York
X-LIC-LOCATION:America/New_York
BEGIN:DAYLIGHT
DTSTART:20140309T030000
TZOFFSETFROM:-0500
TZOFFSETTO:-0400
TZNAME:EDT
END:DAYLIGHT
END:VTIMEZONE
END:VCALENDAR