BEGIN:VCALENDAR
VERSION:2.0
PRODID:-//wp-events-plugin.com//7.2.3.1//EN
TZID:America/New_York
X-WR-TIMEZONE:America/New_York
BEGIN:VEVENT
UID:36@sympmarc.com
DTSTART;TZID=America/New_York;VALUE=DATE:20140206
DTEND;TZID=America/New_York;VALUE=DATE:20140207
DTSTAMP:20140331T040442Z
URL:https://sympmarc.com/speaking/microsoft-cloud-show-2/
SUMMARY:Microsoft Cloud Show -  - 6 Feb 14 00:00
DESCRIPTION:
CATEGORIES:Episode 016 - Interview with Marc Anderson on Recent Changes
 Impacting Customers on Office 365
END:VEVENT
BEGIN:VTIMEZONE
TZID:America/New_York
X-LIC-LOCATION:America/New_York
BEGIN:STANDARD
DTSTART:20131103T010000
TZOFFSETFROM:-0400
TZOFFSETTO:-0500
TZNAME:EST
END:STANDARD
END:VTIMEZONE
END:VCALENDAR