BEGIN:VCALENDAR
VERSION:2.0
PRODID:-//wp-events-plugin.com//7.2.3.1//EN
TZID:America/New_York
X-WR-TIMEZONE:America/New_York
BEGIN:VEVENT
UID:22@sympmarc.com
DTSTART;TZID=America/New_York:20130313T140000
DTEND;TZID=America/New_York:20130313T150000
DTSTAMP:20130212T144855Z
URL:https://sympmarc.com/speaking/metavis-webinar/
SUMMARY:MetaVis SharePoint MVP Webinars Series -  - 13 Mar 13 14:00
DESCRIPTION:
CATEGORIES:Creating a Great User Experience in SharePoint
END:VEVENT
BEGIN:VTIMEZONE
TZID:America/New_York
X-LIC-LOCATION:America/New_York
BEGIN:DAYLIGHT
DTSTART:20130310T030000
TZOFFSETFROM:-0500
TZOFFSETTO:-0400
TZNAME:EDT
END:DAYLIGHT
END:VTIMEZONE
END:VCALENDAR