BEGIN:VCALENDAR
VERSION:2.0
PRODID:-//wp-events-plugin.com//7.2.3.1//EN
TZID:America/New_York
X-WR-TIMEZONE:America/New_York
BEGIN:VEVENT
UID:32@sympmarc.com
DTSTART;TZID=America/New_York:20140108T140000
DTEND;TZID=America/New_York:20140108T150000
DTSTAMP:20131007T154441Z
URL:https://sympmarc.com/speaking/metavis-sharepoint-mvp-webinars-series/
SUMMARY:MetaVis SharePoint MVP Webinars Series -  - 8 Jan 14 14:00
DESCRIPTION:
CATEGORIES:Single-Page Applications (SPAs) in SharePoint Using SPServices
END:VEVENT
BEGIN:VTIMEZONE
TZID:America/New_York
X-LIC-LOCATION:America/New_York
BEGIN:STANDARD
DTSTART:20131103T010000
TZOFFSETFROM:-0400
TZOFFSETTO:-0500
TZNAME:EST
END:STANDARD
END:VTIMEZONE
END:VCALENDAR