BEGIN:VCALENDAR
VERSION:2.0
PRODID:-//wp-events-plugin.com//7.2.3.1//EN
TZID:America/New_York
X-WR-TIMEZONE:America/New_York
BEGIN:VEVENT
UID:58@sympmarc.com
DTSTART;TZID=America/New_York;VALUE=DATE:20150609
DTEND;TZID=America/New_York;VALUE=DATE:20150612
DTSTAMP:20150522T150328Z
URL:https://sympmarc.com/speaking/itunity-connect-online-2015/
SUMMARY:ITUnity Connect Online 2015 -  - 9 Jun 15 00:00
DESCRIPTION:
END:VEVENT
BEGIN:VTIMEZONE
TZID:America/New_York
X-LIC-LOCATION:America/New_York
BEGIN:DAYLIGHT
DTSTART:20150308T030000
TZOFFSETFROM:-0500
TZOFFSETTO:-0400
TZNAME:EDT
END:DAYLIGHT
END:VTIMEZONE
END:VCALENDAR