BEGIN:VCALENDAR
VERSION:2.0
PRODID:-//wp-events-plugin.com//7.2.3.1//EN
TZID:America/New_York
X-WR-TIMEZONE:America/New_York
BEGIN:VEVENT
UID:71@sympmarc.com
DTSTART;TZID=America/New_York;VALUE=DATE:20160302
DTEND;TZID=America/New_York;VALUE=DATE:20160305
DTSTAMP:20161107T195432Z
URL:https://sympmarc.com/speaking/intrateam-event-copenhagen-2016/
SUMMARY:IntraTeam Event Copenhagen 2016 - Radisson BLU Scandanavia Hotel - 
 2 Mar 16 00:00
DESCRIPTION:&nbsp\;\n
CATEGORIES:Content Types-Love Them or Lose It
LOCATION:Radisson BLU Scandanavia Hotel\, Amager Boulevard 70\, Copenhagen\
 , DK-2300\, Denmark
GEO:55.6672307;12.586093800000071
X-APPLE-STRUCTURED-LOCATION;VALUE=URI;X-ADDRESS=Amager Boulevard 70\, Copen
 hagen\, DK-2300\, Denmark;X-APPLE-RADIUS=100;X-TITLE=Radisson BLU Scandana
 via Hotel:geo:55.6672307,12.586093800000071
END:VEVENT
BEGIN:VTIMEZONE
TZID:America/New_York
X-LIC-LOCATION:America/New_York
BEGIN:STANDARD
DTSTART:20151101T010000
TZOFFSETFROM:-0400
TZOFFSETTO:-0500
TZNAME:EST
END:STANDARD
END:VTIMEZONE
END:VCALENDAR