BEGIN:VCALENDAR
VERSION:2.0
PRODID:-//wp-events-plugin.com//7.2.3.1//EN
TZID:America/New_York
X-WR-TIMEZONE:America/New_York
BEGIN:VEVENT
UID:97@sympmarc.com
DTSTART;TZID=America/New_York:20190307T180000
DTEND;TZID=America/New_York:20190307T200000
DTSTAMP:20190305T172646Z
URL:https://sympmarc.com/speaking/granite-state-sharepoint-users-group/
SUMMARY:Granite State SharePoint Users Group - Microsoft Store - 7 Mar 19 1
 8:00
DESCRIPTION:
CATEGORIES:Top Form: Using PowerApps to Replace List Forms
LOCATION:Microsoft Store\, 99 Rockingham Park Blvd\, Salem\, NH\, United St
 ates
X-APPLE-STRUCTURED-LOCATION;VALUE=URI;X-ADDRESS=99 Rockingham Park Blvd\, S
 alem\, NH\, United States;X-APPLE-RADIUS=100;X-TITLE=Microsoft Store:geo:0
 ,0
END:VEVENT
BEGIN:VTIMEZONE
TZID:America/New_York
X-LIC-LOCATION:America/New_York
BEGIN:STANDARD
DTSTART:20181104T010000
TZOFFSETFROM:-0400
TZOFFSETTO:-0500
TZNAME:EST
END:STANDARD
END:VTIMEZONE
END:VCALENDAR