BEGIN:VCALENDAR
VERSION:2.0
PRODID:-//wp-events-plugin.com//7.2.3.1//EN
TZID:America/New_York
X-WR-TIMEZONE:America/New_York
BEGIN:VEVENT
UID:101@sympmarc.com
DTSTART;TZID=Europe/Berlin:20190527T000000
DTEND;TZID=Europe/Berlin:20190529T000000
DTSTAMP:20190305T175506Z
URL:https://sympmarc.com/speaking/european-collaboration-summit-2019/
SUMMARY:European Collaboration Summit 2019 - RheinMain CongressCenter - 27 
 May 19 00:00
DESCRIPTION:
CATEGORIES:Managing Content Types in the Modern World
LOCATION:RheinMain CongressCenter\, Friedrich-Ebert-Allee 1\, Wiesbaden\, 6
 5185\, Germany
X-APPLE-STRUCTURED-LOCATION;VALUE=URI;X-ADDRESS=Friedrich-Ebert-Allee 1\, W
 iesbaden\, 65185\, Germany;X-APPLE-RADIUS=100;X-TITLE=RheinMain CongressCe
 nter:geo:0,0
END:VEVENT
BEGIN:VTIMEZONE
TZID:Europe/Berlin
X-LIC-LOCATION:Europe/Berlin
BEGIN:DAYLIGHT
DTSTART:20190331T030000
TZOFFSETFROM:+0100
TZOFFSETTO:+0200
TZNAME:CEST
END:DAYLIGHT
END:VTIMEZONE
END:VCALENDAR