BEGIN:VCALENDAR
VERSION:2.0
PRODID:-//wp-events-plugin.com//7.2.3.1//EN
TZID:America/New_York
X-WR-TIMEZONE:America/New_York
BEGIN:VEVENT
UID:92@sympmarc.com
DTSTART;TZID=America/New_York;VALUE=DATE:20180528
DTEND;TZID=America/New_York;VALUE=DATE:20180531
DTSTAMP:20180205T153442Z
URL:https://sympmarc.com/speaking/european-collaboration-summit-2018/
SUMMARY:European Collaboration Summit 2018 - Rheingoldhalle Mainz - 28 May 
 18 00:00
DESCRIPTION:
CATEGORIES:The Lay of the Land of Client-Side Development Circa 2018
LOCATION:Rheingoldhalle Mainz\, Rheinstraße 66\, Mainz\, 55116\, Germany
GEO:50.0017127;8.275769399999945
X-APPLE-STRUCTURED-LOCATION;VALUE=URI;X-ADDRESS=Rheinstraße 66\, Mainz\, 5
 5116\, Germany;X-APPLE-RADIUS=100;X-TITLE=Rheingoldhalle Mainz:geo:50.0017
 127,8.275769399999945
END:VEVENT
BEGIN:VTIMEZONE
TZID:America/New_York
X-LIC-LOCATION:America/New_York
BEGIN:DAYLIGHT
DTSTART:20180311T030000
TZOFFSETFROM:-0500
TZOFFSETTO:-0400
TZNAME:EDT
END:DAYLIGHT
END:VTIMEZONE
END:VCALENDAR