BEGIN:VCALENDAR
VERSION:2.0
PRODID:-//wp-events-plugin.com//7.2.3.1//EN
TZID:America/New_York
X-WR-TIMEZONE:America/New_York
BEGIN:VEVENT
UID:84@sympmarc.com
DTSTART;TZID=America/New_York;VALUE=DATE:20170529
DTEND;TZID=America/New_York;VALUE=DATE:20170601
DTSTAMP:20170301T221801Z
URL:https://sympmarc.com/speaking/european-collaboration-summit-2017/
SUMMARY:European Collaboration Summit 2017 - Hotel Antunović - 29 May 17 0
 0:00
DESCRIPTION:
CATEGORIES:Content Types-Love Them or Lose It
LOCATION:Hotel Antunović\, Zagrebačka Avenija 100 A\, Zagreb\, 10000\, Cr
 oatia
GEO:45.797258;15.900417100000027
X-APPLE-STRUCTURED-LOCATION;VALUE=URI;X-ADDRESS=Zagrebačka Avenija 100 A\,
  Zagreb\, 10000\, Croatia;X-APPLE-RADIUS=100;X-TITLE=Hotel Antunović:geo:
 45.797258,15.900417100000027
END:VEVENT
BEGIN:VTIMEZONE
TZID:America/New_York
X-LIC-LOCATION:America/New_York
BEGIN:DAYLIGHT
DTSTART:20170312T030000
TZOFFSETFROM:-0500
TZOFFSETTO:-0400
TZNAME:EDT
END:DAYLIGHT
END:VTIMEZONE
END:VCALENDAR