BEGIN:VCALENDAR
VERSION:2.0
PRODID:-//wp-events-plugin.com//7.2.3.1//EN
TZID:America/New_York
X-WR-TIMEZONE:America/New_York
BEGIN:VEVENT
UID:43@sympmarc.com
DTSTART;TZID=America/New_York:20140619T180000
DTEND;TZID=America/New_York:20140619T200000
DTSTAMP:20140620T132225Z
URL:https://sympmarc.com/speaking/connecticut-sharepoint-users-group-ctspu
 g/
SUMMARY:Connecticut SharePoint User's Group (CTSPUG) - Slalom Consulting - 
 19 Jun 14 18:00
DESCRIPTION:
CATEGORIES:SharePoint Solutions with SPServices
LOCATION:Slalom Consulting\, 100 Pearl Street\, Hartford\, CT\, United Stat
 es
GEO:41.7664309;-72.6749795
X-APPLE-STRUCTURED-LOCATION;VALUE=URI;X-ADDRESS=100 Pearl Street\, Hartford
 \, CT\, United States;X-APPLE-RADIUS=100;X-TITLE=Slalom Consulting:geo:41.
 7664309,-72.6749795
END:VEVENT
BEGIN:VTIMEZONE
TZID:America/New_York
X-LIC-LOCATION:America/New_York
BEGIN:DAYLIGHT
DTSTART:20140309T030000
TZOFFSETFROM:-0500
TZOFFSETTO:-0400
TZNAME:EDT
END:DAYLIGHT
END:VTIMEZONE
END:VCALENDAR