BEGIN:VCALENDAR
VERSION:2.0
PRODID:-//wp-events-plugin.com//7.2.3.1//EN
TZID:America/New_York
X-WR-TIMEZONE:America/New_York
BEGIN:VEVENT
UID:64@sympmarc.com
DTSTART;TZID=America/New_York;VALUE=DATE:20151007
DTEND;TZID=America/New_York;VALUE=DATE:20151009
DTSTAMP:20151112T163638Z
URL:https://sympmarc.com/speaking/collab365-global-conference/
SUMMARY:Collab365 Global Conference -  - 7 Oct 15 00:00
DESCRIPTION:
CATEGORIES:Moving from SOAP to REST – You'll Have to Do It Sometime
END:VEVENT
BEGIN:VTIMEZONE
TZID:America/New_York
X-LIC-LOCATION:America/New_York
BEGIN:DAYLIGHT
DTSTART:20150308T030000
TZOFFSETFROM:-0500
TZOFFSETTO:-0400
TZNAME:EDT
END:DAYLIGHT
END:VTIMEZONE
END:VCALENDAR