BEGIN:VCALENDAR
VERSION:2.0
PRODID:-//wp-events-plugin.com//7.2.3.1//EN
TZID:America/New_York
X-WR-TIMEZONE:America/New_York
BEGIN:VEVENT
UID:69@sympmarc.com
DTSTART;TZID=America/New_York:20160118T183000
DTEND;TZID=America/New_York:20160118T204500
DTSTAMP:20161107T194818Z
URL:https://sympmarc.com/speaking/atlanta-sharepoint-user-group/
SUMMARY:Atlanta SharePoint User Group - Microsoft Atlanta Office - 18 Jan 1
 6 18:30
DESCRIPTION:&nbsp\;\n
CATEGORIES:Alternative Approaches to Solution Development in Office 365
LOCATION:Microsoft Atlanta Office\, 1125 Sanctuary Pkwy\, Suite 300\, Alpha
 retta\, GA\, 30004\, United States
GEO:34.048294;-84.3118895
X-APPLE-STRUCTURED-LOCATION;VALUE=URI;X-ADDRESS=1125 Sanctuary Pkwy\, Suite
  300\, Alpharetta\, GA\, 30004\, United States;X-APPLE-RADIUS=100;X-TITLE=
 Microsoft Atlanta Office:geo:34.048294,-84.3118895
END:VEVENT
BEGIN:VTIMEZONE
TZID:America/New_York
X-LIC-LOCATION:America/New_York
BEGIN:STANDARD
DTSTART:20151101T010000
TZOFFSETFROM:-0400
TZOFFSETTO:-0500
TZNAME:EST
END:STANDARD
END:VTIMEZONE
END:VCALENDAR