BEGIN:VCALENDAR
VERSION:2.0
PRODID:-//wp-events-plugin.com//7.2.3.1//EN
TZID:America/New_York
X-WR-TIMEZONE:America/New_York
BEGIN:VEVENT
UID:52@sympmarc.com
DTSTART;TZID=America/New_York;VALUE=DATE:20150226
DTEND;TZID=America/New_York;VALUE=DATE:20150302
DTSTAMP:20150219T195943Z
URL:https://sympmarc.com/speaking/arctic-sharepoint-challenge-judge/
SUMMARY:Arctic SharePoint Challenge - Judge - Voksenåsen Hotel - 26 Feb 15
  00:00
DESCRIPTION:
LOCATION:Voksenåsen Hotel\, Ullveien 4\, Oslo\, 0791\, Norway
GEO:59.97517879999999;10.665395100000069
X-APPLE-STRUCTURED-LOCATION;VALUE=URI;X-ADDRESS=Ullveien 4\, Oslo\, 0791\, 
 Norway;X-APPLE-RADIUS=100;X-TITLE=Voksenåsen Hotel:geo:59.97517879999999,
 10.665395100000069
END:VEVENT
BEGIN:VTIMEZONE
TZID:America/New_York
X-LIC-LOCATION:America/New_York
BEGIN:STANDARD
DTSTART:20141102T010000
TZOFFSETFROM:-0400
TZOFFSETTO:-0500
TZNAME:EST
END:STANDARD
END:VTIMEZONE
END:VCALENDAR