BEGIN:VCALENDAR
VERSION:2.0
PRODID:-//wp-events-plugin.com//7.2.3.1//EN
TZID:America/New_York
X-WR-TIMEZONE:America/New_York
BEGIN:VEVENT
UID:14@sympmarc.com
DTSTART;TZID=America/New_York:20120523T000000
DTEND;TZID=America/New_York:20120523T120000
DTSTAMP:20120423T195251Z
URL:https://sympmarc.com/speaking/aiim-new-england/
SUMMARY:AIIM New England - The Newton Marriott Hotel - 23 May 12 00:00
DESCRIPTION:
CATEGORIES:The Cloud / Mobile Content Management / BYOD
LOCATION:The Newton Marriott Hotel\, 2345 Commonwealth Avenue\, Newton\, MA
 \, 02466\, United States
GEO:42.3461455;-71.25839780000001
X-APPLE-STRUCTURED-LOCATION;VALUE=URI;X-ADDRESS=2345 Commonwealth Avenue\, 
 Newton\, MA\, 02466\, United States;X-APPLE-RADIUS=100;X-TITLE=The Newton 
 Marriott Hotel:geo:42.3461455,-71.25839780000001
END:VEVENT
BEGIN:VTIMEZONE
TZID:America/New_York
X-LIC-LOCATION:America/New_York
BEGIN:DAYLIGHT
DTSTART:20120311T030000
TZOFFSETFROM:-0500
TZOFFSETTO:-0400
TZNAME:EDT
END:DAYLIGHT
END:VTIMEZONE
END:VCALENDAR